BEGIN:VCALENDAR
VERSION:2.0
PRODID:-//Elgin Chamber of Commerce - ECPv6.15.20//NONSGML v1.0//EN
CALSCALE:GREGORIAN
METHOD:PUBLISH
X-WR-CALNAME:Elgin Chamber of Commerce
X-ORIGINAL-URL:https://www.elginchamber.net
X-WR-CALDESC:Events for Elgin Chamber of Commerce
REFRESH-INTERVAL;VALUE=DURATION:PT1H
X-Robots-Tag:noindex
X-PUBLISHED-TTL:PT1H
BEGIN:VTIMEZONE
TZID:UTC
BEGIN:STANDARD
TZOFFSETFROM:+0000
TZOFFSETTO:+0000
TZNAME:UTC
DTSTART:20240101T000000
END:STANDARD
END:VTIMEZONE
BEGIN:VEVENT
DTSTART;TZID=UTC:20251014T114500
DTEND;TZID=UTC:20251014T130000
DTSTAMP:20260424T000908
CREATED:20250827T154553Z
LAST-MODIFIED:20250827T154553Z
UID:1160-1760442300-1760446800@www.elginchamber.net
SUMMARY:Monthly Chamber Meeting
DESCRIPTION:
URL:https://www.elginchamber.net/event/monthly-chamber-meeting-24/
LOCATION:Elgin Chamber
END:VEVENT
BEGIN:VEVENT
DTSTART;TZID=UTC:20251017T080000
DTEND;TZID=UTC:20251018T170000
DTSTAMP:20260424T000908
CREATED:20250827T154029Z
LAST-MODIFIED:20250827T154029Z
UID:1156-1760688000-1760806800@www.elginchamber.net
SUMMARY:City Wide Garage Sale
DESCRIPTION:
URL:https://www.elginchamber.net/event/city-wide-garage-sale-2/
LOCATION:Elgin\, Elgin\, OK\, 73538
END:VEVENT
END:VCALENDAR