BEGIN:VCALENDAR
VERSION:2.0
PRODID:-//Elgin Chamber of Commerce - ECPv6.15.20//NONSGML v1.0//EN
CALSCALE:GREGORIAN
METHOD:PUBLISH
X-WR-CALNAME:Elgin Chamber of Commerce
X-ORIGINAL-URL:https://www.elginchamber.net
X-WR-CALDESC:Events for Elgin Chamber of Commerce
REFRESH-INTERVAL;VALUE=DURATION:PT1H
X-Robots-Tag:noindex
X-PUBLISHED-TTL:PT1H
BEGIN:VTIMEZONE
TZID:UTC
BEGIN:STANDARD
TZOFFSETFROM:+0000
TZOFFSETTO:+0000
TZNAME:UTC
DTSTART:20180101T000000
END:STANDARD
END:VTIMEZONE
BEGIN:VEVENT
DTSTART;TZID=UTC:20191008T190000
DTEND;TZID=UTC:20191008T203000
DTSTAMP:20260424T120344
CREATED:20191004T145018Z
LAST-MODIFIED:20191004T145018Z
UID:611-1570561200-1570566600@www.elginchamber.net
SUMMARY:Donkey Basketball
DESCRIPTION:Tuesday October 8th @ 7:00 pm inside the Elgin Middle School Gym.\nTickets available at Elgin 6th Grade Library\, SW Knee and Shoulder Chiropractic or Call/text Melissa Caro at 580-483-2969.\nAdvanced Tickets-$7/ At the door $10\nChildren 4 and under-FREE\nFREE donkey Rides during Intermission \nSponsored by Elgin Basketball Tip-In Club- Proceeds benefit the Elgin Basketball Program
URL:https://www.elginchamber.net/event/donkey-basketball/
LOCATION:OK
ATTACH;FMTTYPE=image/jpeg:https://www.elginchamber.net/wp-content/uploads/Donkey-BB.jpg
END:VEVENT
BEGIN:VEVENT
DTSTART;TZID=UTC:20191008T120000
DTEND;TZID=UTC:20191008T130000
DTSTAMP:20260424T120344
CREATED:20191002T145150Z
LAST-MODIFIED:20191002T145150Z
UID:579-1570536000-1570539600@www.elginchamber.net
SUMMARY:Monthly Chamber meeting
DESCRIPTION:
URL:https://www.elginchamber.net/event/monthly-chamber-meeting/
LOCATION:Elgin High School Library\, 501 K Street\, Elgin\, OK\, 73538\, United States
END:VEVENT
BEGIN:VEVENT
DTSTART;VALUE=DATE:20190921
DTEND;VALUE=DATE:20191031
DTSTAMP:20260424T120344
CREATED:20190930T191756Z
LAST-MODIFIED:20191002T182451Z
UID:477-1569024000-1572479999@www.elginchamber.net
SUMMARY:Coat Drive
DESCRIPTION:
URL:https://www.elginchamber.net/event/coat-drive/
LOCATION:OK
ATTACH;FMTTYPE=image/jpeg:https://www.elginchamber.net/wp-content/uploads/Coat-Drive-final-1.jpg
END:VEVENT
END:VCALENDAR