BEGIN:VCALENDAR
VERSION:2.0
PRODID:-//Elgin Chamber of Commerce - ECPv6.15.20//NONSGML v1.0//EN
CALSCALE:GREGORIAN
METHOD:PUBLISH
X-WR-CALNAME:Elgin Chamber of Commerce
X-ORIGINAL-URL:https://www.elginchamber.net
X-WR-CALDESC:Events for Elgin Chamber of Commerce
REFRESH-INTERVAL;VALUE=DURATION:PT1H
X-Robots-Tag:noindex
X-PUBLISHED-TTL:PT1H
BEGIN:VTIMEZONE
TZID:UTC
BEGIN:STANDARD
TZOFFSETFROM:+0000
TZOFFSETTO:+0000
TZNAME:UTC
DTSTART:20180101T000000
END:STANDARD
END:VTIMEZONE
BEGIN:VEVENT
DTSTART;TZID=UTC:20240611T114500
DTEND;TZID=UTC:20240611T124500
DTSTAMP:20260423T204522
CREATED:20240125T154147Z
LAST-MODIFIED:20240125T154147Z
UID:1026-1718106300-1718109900@www.elginchamber.net
SUMMARY:Monthly Chamber Meeting
DESCRIPTION:
URL:https://www.elginchamber.net/event/monthly-chamber-meeting-16/
LOCATION:Elgin Chamber
END:VEVENT
BEGIN:VEVENT
DTSTART;VALUE=DATE:20240607
DTEND;VALUE=DATE:20240609
DTSTAMP:20260423T204522
CREATED:20240125T160046Z
LAST-MODIFIED:20240125T160046Z
UID:1043-1717718400-1717891199@www.elginchamber.net
SUMMARY:City Wide Garage Sale
DESCRIPTION:
URL:https://www.elginchamber.net/event/city-wide-garage-sale/
LOCATION:Elgin\, Elgin\, OK\, 73538
END:VEVENT
BEGIN:VEVENT
DTSTART;TZID=UTC:20240514T114500
DTEND;TZID=UTC:20240514T124500
DTSTAMP:20260423T204522
CREATED:20240125T154116Z
LAST-MODIFIED:20240125T154116Z
UID:1024-1715687100-1715690700@www.elginchamber.net
SUMMARY:Monthly Chamber Meeting
DESCRIPTION:
URL:https://www.elginchamber.net/event/monthly-chamber-meeting-15/
LOCATION:Elgin Chamber
END:VEVENT
BEGIN:VEVENT
DTSTART;TZID=UTC:20240409T114500
DTEND;TZID=UTC:20240409T124500
DTSTAMP:20260423T204522
CREATED:20240125T154043Z
LAST-MODIFIED:20240125T154043Z
UID:1022-1712663100-1712666700@www.elginchamber.net
SUMMARY:Monthly Chamber Meeting
DESCRIPTION:
URL:https://www.elginchamber.net/event/monthly-chamber-meeting-14/
LOCATION:Elgin Chamber
END:VEVENT
BEGIN:VEVENT
DTSTART;TZID=UTC:20240312T114500
DTEND;TZID=UTC:20240312T124500
DTSTAMP:20260423T204522
CREATED:20240125T153949Z
LAST-MODIFIED:20240125T153949Z
UID:1020-1710243900-1710247500@www.elginchamber.net
SUMMARY:Monthly Chamber Meeting
DESCRIPTION:
URL:https://www.elginchamber.net/event/monthly-chamber-meeting-13/
LOCATION:Elgin Chamber
END:VEVENT
BEGIN:VEVENT
DTSTART;TZID=UTC:20240309T180000
DTEND;TZID=UTC:20240309T230000
DTSTAMP:20260423T204522
CREATED:20240125T155909Z
LAST-MODIFIED:20240125T155909Z
UID:1040-1710007200-1710025200@www.elginchamber.net
SUMMARY:Boot Scootin' Banquet
DESCRIPTION:
URL:https://www.elginchamber.net/event/boot-scootin-banquet/
LOCATION:Beloved Wedding & Event Venue\, 17432 NE North Drive\, Fletcher\, OK
END:VEVENT
BEGIN:VEVENT
DTSTART;TZID=UTC:20240213T114500
DTEND;TZID=UTC:20240213T124500
DTSTAMP:20260423T204522
CREATED:20240125T153848Z
LAST-MODIFIED:20240125T153848Z
UID:1018-1707824700-1707828300@www.elginchamber.net
SUMMARY:Monthly Chamber Meeting
DESCRIPTION:
URL:https://www.elginchamber.net/event/monthly-chamber-meeting-12/
LOCATION:Elgin Chamber
END:VEVENT
BEGIN:VEVENT
DTSTART;TZID=UTC:20210529T100000
DTEND;TZID=UTC:20210529T180000
DTSTAMP:20260423T204522
CREATED:20210521T190722Z
LAST-MODIFIED:20210521T190722Z
UID:836-1622282400-1622311200@www.elginchamber.net
SUMMARY:My Little Pearl Bowtique Ribbon Cutting/Open House
DESCRIPTION:
URL:https://www.elginchamber.net/event/my-little-pearl-bowtique-ribbon-cutting-open-house/
LOCATION:My Little Pearl Bowtique\, 7796 US-277\, Elgin\, OK\, 73538\, United States
END:VEVENT
BEGIN:VEVENT
DTSTART;TZID=UTC:20200924T120000
DTEND;TZID=UTC:20200924T130000
DTSTAMP:20260423T204522
CREATED:20200128T211544Z
LAST-MODIFIED:20200909T183050Z
UID:696-1600948800-1600952400@www.elginchamber.net
SUMMARY:Monthly Chamber Meeting
DESCRIPTION:
URL:https://www.elginchamber.net/event/monthly-chamber-meeting-11/
LOCATION:Crossroads Baptist Church\, 11423 NE 75th St\, Elgin\, 73538
END:VEVENT
BEGIN:VEVENT
DTSTART;TZID=UTC:20200826T083000
DTEND;TZID=UTC:20200826T093000
DTSTAMP:20260423T204522
CREATED:20200128T211237Z
LAST-MODIFIED:20200128T211237Z
UID:694-1598430600-1598434200@www.elginchamber.net
SUMMARY:August Elgin Chamber Business Brew
DESCRIPTION:
URL:https://www.elginchamber.net/event/august-elgin-chamber-business-brew/
LOCATION:OK
END:VEVENT
BEGIN:VEVENT
DTSTART;TZID=UTC:20200811T120000
DTEND;TZID=UTC:20200811T130000
DTSTAMP:20260423T204522
CREATED:20200128T211009Z
LAST-MODIFIED:20200128T211009Z
UID:692-1597147200-1597150800@www.elginchamber.net
SUMMARY:Monthly Chamber Meeting
DESCRIPTION:
URL:https://www.elginchamber.net/event/monthly-chamber-meeting-10/
LOCATION:OK
END:VEVENT
BEGIN:VEVENT
DTSTART;TZID=UTC:20200729T083000
DTEND;TZID=UTC:20200729T093000
DTSTAMP:20260423T204522
CREATED:20200128T210334Z
LAST-MODIFIED:20200128T210334Z
UID:690-1596011400-1596015000@www.elginchamber.net
SUMMARY:July Elgin Chamber Business Brew
DESCRIPTION:
URL:https://www.elginchamber.net/event/july-elgin-chamber-business-brew/
LOCATION:OK
END:VEVENT
BEGIN:VEVENT
DTSTART;TZID=UTC:20200714T120000
DTEND;TZID=UTC:20200714T130000
DTSTAMP:20260423T204522
CREATED:20200128T210222Z
LAST-MODIFIED:20200128T210222Z
UID:688-1594728000-1594731600@www.elginchamber.net
SUMMARY:Monthly Chamber Meeting
DESCRIPTION:
URL:https://www.elginchamber.net/event/monthly-chamber-meeting-9/
LOCATION:OK
END:VEVENT
BEGIN:VEVENT
DTSTART;TZID=UTC:20200624T083000
DTEND;TZID=UTC:20200624T093000
DTSTAMP:20260423T204522
CREATED:20200128T210120Z
LAST-MODIFIED:20200128T210120Z
UID:686-1592987400-1592991000@www.elginchamber.net
SUMMARY:June Elgin Chamber Business Brew
DESCRIPTION:
URL:https://www.elginchamber.net/event/june-elgin-chamber-business-brew/
LOCATION:OK
END:VEVENT
BEGIN:VEVENT
DTSTART;TZID=UTC:20200623T130000
DTEND;TZID=UTC:20200623T133000
DTSTAMP:20260423T204522
CREATED:20200617T145122Z
LAST-MODIFIED:20200617T145154Z
UID:778-1592917200-1592919000@www.elginchamber.net
SUMMARY:Elgin Family Care Ribbon Cutting Ceremony
DESCRIPTION:
URL:https://www.elginchamber.net/event/elgin-family-care-ribbon-cutting-ceremony/
LOCATION:Elgin Family Care\, 8148 HWY 17\, Elgin\, OK\, 73538\, United States
END:VEVENT
BEGIN:VEVENT
DTSTART;TZID=UTC:20200609T120000
DTEND;TZID=UTC:20200609T130000
DTSTAMP:20260423T204522
CREATED:20200128T210007Z
LAST-MODIFIED:20200128T210007Z
UID:684-1591704000-1591707600@www.elginchamber.net
SUMMARY:Monthly Chamber Meeting
DESCRIPTION:
URL:https://www.elginchamber.net/event/monthly-chamber-meeting-8/
LOCATION:Elgin High School Library\, 501 K Street\, Elgin\, OK\, 73538\, United States
END:VEVENT
BEGIN:VEVENT
DTSTART;TZID=UTC:20200527T083000
DTEND;TZID=UTC:20200527T093000
DTSTAMP:20260423T204522
CREATED:20200128T205745Z
LAST-MODIFIED:20200128T205745Z
UID:682-1590568200-1590571800@www.elginchamber.net
SUMMARY:May Elgin Chamber Business Brew
DESCRIPTION:
URL:https://www.elginchamber.net/event/may-elgin-chamber-business-brew/
LOCATION:OK
END:VEVENT
BEGIN:VEVENT
DTSTART;TZID=UTC:20200512T120000
DTEND;TZID=UTC:20200512T130000
DTSTAMP:20260423T204522
CREATED:20200128T205613Z
LAST-MODIFIED:20200128T205613Z
UID:680-1589284800-1589288400@www.elginchamber.net
SUMMARY:Monthly Chamber Meeting
DESCRIPTION:
URL:https://www.elginchamber.net/event/monthly-chamber-meeting-7/
LOCATION:Elgin High School Library\, 501 K Street\, Elgin\, OK\, 73538\, United States
END:VEVENT
BEGIN:VEVENT
DTSTART;TZID=UTC:20200425T083000
DTEND;TZID=UTC:20200425T093000
DTSTAMP:20260423T204522
CREATED:20200127T232255Z
LAST-MODIFIED:20200128T205214Z
UID:664-1587803400-1587807000@www.elginchamber.net
SUMMARY:April Elgin Chamber Business Brew
DESCRIPTION:Open to the public!  Come join the Elgin Chamber of Commerce at Salon Mirror Mirror in their new location for the April Business Brew!  April 25th is National Hair Dresser Day\, come out and meet some fabulous hair dressers! Enjoy a cup of coffee and a snack\, learn about businesses in our community and network with other business leaders and community members.
URL:https://www.elginchamber.net/event/april-elgin-chamber-business-brew/
LOCATION:OK\, United States
END:VEVENT
BEGIN:VEVENT
DTSTART;TZID=UTC:20200414T120000
DTEND;TZID=UTC:20200414T130000
DTSTAMP:20260423T204522
CREATED:20200128T205059Z
LAST-MODIFIED:20200128T205059Z
UID:678-1586865600-1586869200@www.elginchamber.net
SUMMARY:Monthly Chamber Meeting
DESCRIPTION:
URL:https://www.elginchamber.net/event/monthly-chamber-meeting-6/
LOCATION:Elgin High School Library\, 501 K Street\, Elgin\, OK\, 73538\, United States
END:VEVENT
BEGIN:VEVENT
DTSTART;TZID=UTC:20200325T083000
DTEND;TZID=UTC:20200325T093000
DTSTAMP:20260423T204522
CREATED:20200128T204416Z
LAST-MODIFIED:20200128T204848Z
UID:674-1585125000-1585128600@www.elginchamber.net
SUMMARY:March Elgin Chamber Business Brew
DESCRIPTION:
URL:https://www.elginchamber.net/event/march-business-brew/
LOCATION:Elgin High School Library\, 501 K Street\, Elgin\, OK\, 73538\, United States
END:VEVENT
BEGIN:VEVENT
DTSTART;TZID=UTC:20200310T120000
DTEND;TZID=UTC:20200310T130000
DTSTAMP:20260423T204522
CREATED:20200127T230407Z
LAST-MODIFIED:20200127T230407Z
UID:662-1583841600-1583845200@www.elginchamber.net
SUMMARY:Monthly Chamber Meeting
DESCRIPTION:
URL:https://www.elginchamber.net/event/monthly-chamber-meeting-5/
LOCATION:Elgin High School Library\, 501 K Street\, Elgin\, OK\, 73538\, United States
END:VEVENT
BEGIN:VEVENT
DTSTART;TZID=UTC:20200226T083000
DTEND;TZID=UTC:20200226T093000
DTSTAMP:20260423T204522
CREATED:20200127T230106Z
LAST-MODIFIED:20200128T185621Z
UID:659-1582705800-1582709400@www.elginchamber.net
SUMMARY:February Elgin Chamber Business Brew
DESCRIPTION:Open to the public. Come join the Elgin Chamber of Commerce at KrisCross Gym in their new location for February Business Brew!  Enjoy a cup of coffee and a snack\, learn about a business in our community and network with other business leaders and community members.
URL:https://www.elginchamber.net/event/february-elgin-chamber-business-brew/
LOCATION:OK\, United States
END:VEVENT
BEGIN:VEVENT
DTSTART;TZID=UTC:20200211T120000
DTEND;TZID=UTC:20200211T130000
DTSTAMP:20260423T204522
CREATED:20200127T225248Z
LAST-MODIFIED:20200127T225248Z
UID:657-1581422400-1581426000@www.elginchamber.net
SUMMARY:Monthly Chamber Meeting
DESCRIPTION:
URL:https://www.elginchamber.net/event/monthly-chamber-meeting-4/
LOCATION:Elgin High School Library\, 501 K Street\, Elgin\, OK\, 73538\, United States
END:VEVENT
BEGIN:VEVENT
DTSTART;TZID=UTC:20200129T083000
DTEND;TZID=UTC:20200129T093000
DTSTAMP:20260423T204522
CREATED:20200127T224242Z
LAST-MODIFIED:20200128T204725Z
UID:653-1580286600-1580290200@www.elginchamber.net
SUMMARY:January Elgin Chamber Business Brew
DESCRIPTION:Open to the public!  Come join the Elgin Chamber of Commerce at The Chronicle for the January Business Brew!  Hilliary Media group will be hosting State Senator Chris Kidd for a meet and greet.  Enjoy a cup of coffee and Chick-Fil-A for breakfast!
URL:https://www.elginchamber.net/event/january-business-brew/
LOCATION:7602 US HWY 277\, Suite A\, Elgin\, OK\, 73538\, United States
END:VEVENT
BEGIN:VEVENT
DTSTART;TZID=UTC:20191210T120000
DTEND;TZID=UTC:20191210T130000
DTSTAMP:20260423T204522
CREATED:20191002T181532Z
LAST-MODIFIED:20191002T181532Z
UID:598-1575979200-1575982800@www.elginchamber.net
SUMMARY:Monthly Chamber Meeting
DESCRIPTION:
URL:https://www.elginchamber.net/event/monthly-chamber-meeting-3/
LOCATION:Elgin High School Library\, 501 K Street\, Elgin\, OK\, 73538\, United States
END:VEVENT
BEGIN:VEVENT
DTSTART;VALUE=DATE:20191207
DTEND;VALUE=DATE:20191208
DTSTAMP:20260423T204522
CREATED:20190930T192905Z
LAST-MODIFIED:20191002T190021Z
UID:573-1575676800-1575763199@www.elginchamber.net
SUMMARY:An Elgin Christmas
DESCRIPTION:A great community event for everyone! There will be a christmas parade\, food trucks\, christmas wreaths\, plus more – Check out the Facebook page “An Elgin Christmas”  for updates!
URL:https://www.elginchamber.net/event/an-elgin-christmas/
LOCATION:OK
ATTACH;FMTTYPE=image/jpeg:https://www.elginchamber.net/wp-content/uploads/Elgin-Christmas-19.jpg
END:VEVENT
BEGIN:VEVENT
DTSTART;TZID=UTC:20191120T090000
DTEND;TZID=UTC:20191120T100000
DTSTAMP:20260423T204522
CREATED:20191002T150726Z
LAST-MODIFIED:20191002T150726Z
UID:594-1574240400-1574244000@www.elginchamber.net
SUMMARY:Business Brew
DESCRIPTION:November Business Brew will be hosted by Elgin Masonic Lodge on 20 Nov.
URL:https://www.elginchamber.net/event/business-brew-2/
LOCATION:Elgin Masonic Lodge\, 819 8th St.\, Elgin\, OK\, 73538\, United States
END:VEVENT
BEGIN:VEVENT
DTSTART;TZID=UTC:20191112T120000
DTEND;TZID=UTC:20191112T130000
DTSTAMP:20260423T204522
CREATED:20191002T150403Z
LAST-MODIFIED:20191002T150403Z
UID:592-1573560000-1573563600@www.elginchamber.net
SUMMARY:Monthly Chamber Meeting
DESCRIPTION:
URL:https://www.elginchamber.net/event/monthly-chamber-meeting-2/
LOCATION:Elgin High School Library\, 501 K Street\, Elgin\, OK\, 73538\, United States
END:VEVENT
BEGIN:VEVENT
DTSTART;TZID=UTC:20191030T090000
DTEND;TZID=UTC:20191030T100000
DTSTAMP:20260423T204522
CREATED:20191002T145947Z
LAST-MODIFIED:20191002T145947Z
UID:588-1572426000-1572429600@www.elginchamber.net
SUMMARY:Business Brew
DESCRIPTION:October Business Brew is being hosted by Elgin Community Library.
URL:https://www.elginchamber.net/event/business-brew/
LOCATION:Elgin Community Library\, 108 Thoma Drive\, Elgin\, OK\, 73538\, United States
END:VEVENT
END:VCALENDAR