BEGIN:VCALENDAR
VERSION:2.0
PRODID:-//Elgin Chamber of Commerce - ECPv6.15.20//NONSGML v1.0//EN
CALSCALE:GREGORIAN
METHOD:PUBLISH
X-WR-CALNAME:Elgin Chamber of Commerce
X-ORIGINAL-URL:https://www.elginchamber.net
X-WR-CALDESC:Events for Elgin Chamber of Commerce
REFRESH-INTERVAL;VALUE=DURATION:PT1H
X-Robots-Tag:noindex
X-PUBLISHED-TTL:PT1H
BEGIN:VTIMEZONE
TZID:UTC
BEGIN:STANDARD
TZOFFSETFROM:+0000
TZOFFSETTO:+0000
TZNAME:UTC
DTSTART:20250101T000000
END:STANDARD
END:VTIMEZONE
BEGIN:VEVENT
DTSTART;TZID=UTC:20260113T114500
DTEND;TZID=UTC:20260113T130000
DTSTAMP:20260423T210845
CREATED:20251231T003736Z
LAST-MODIFIED:20251231T003736Z
UID:1182-1768304700-1768309200@www.elginchamber.net
SUMMARY:Monthly Chamber Meeting
DESCRIPTION:
URL:https://www.elginchamber.net/event/monthly-chamber-meeting-27/
LOCATION:Elgin Chamber
END:VEVENT
END:VCALENDAR