BEGIN:VCALENDAR
VERSION:2.0
PRODID:-//Elgin Chamber of Commerce - ECPv6.15.20//NONSGML v1.0//EN
CALSCALE:GREGORIAN
METHOD:PUBLISH
X-WR-CALNAME:Elgin Chamber of Commerce
X-ORIGINAL-URL:https://www.elginchamber.net
X-WR-CALDESC:Events for Elgin Chamber of Commerce
REFRESH-INTERVAL;VALUE=DURATION:PT1H
X-Robots-Tag:noindex
X-PUBLISHED-TTL:PT1H
BEGIN:VTIMEZONE
TZID:UTC
BEGIN:STANDARD
TZOFFSETFROM:+0000
TZOFFSETTO:+0000
TZNAME:UTC
DTSTART:20240101T000000
END:STANDARD
END:VTIMEZONE
BEGIN:VEVENT
DTSTART;TZID=UTC:20251209T114500
DTEND;TZID=UTC:20251209T130000
DTSTAMP:20260423T223720
CREATED:20250827T154825Z
LAST-MODIFIED:20250827T154825Z
UID:1164-1765280700-1765285200@www.elginchamber.net
SUMMARY:Monthly Chamber Meeting
DESCRIPTION:
URL:https://www.elginchamber.net/event/monthly-chamber-meeting-26/
LOCATION:Elgin Chamber
END:VEVENT
BEGIN:VEVENT
DTSTART;TZID=UTC:20251209T190000
DTEND;TZID=UTC:20251209T200000
DTSTAMP:20260423T223720
CREATED:20250827T155001Z
LAST-MODIFIED:20250827T155001Z
UID:1166-1765306800-1765310400@www.elginchamber.net
SUMMARY:Elgin Christmas Parade
DESCRIPTION:
URL:https://www.elginchamber.net/event/elgin-christmas-parade/
LOCATION:Elgin\, Elgin\, OK\, 73538
END:VEVENT
END:VCALENDAR